BEGIN:VCALENDAR
VERSION:2.0
PRODID:-//Conspiracy of Beards - ECPv4.6.8//NONSGML v1.0//EN
CALSCALE:GREGORIAN
METHOD:PUBLISH
X-WR-CALNAME:Conspiracy of Beards
X-ORIGINAL-URL:https://conspiracyofbeards.com
X-WR-CALDESC:Events for Conspiracy of Beards
BEGIN:VEVENT
DTSTART;TZID=America/Los_Angeles:20161120T140000
DTEND;TZID=America/Los_Angeles:20161120T163000
DTSTAMP:20260419T145549
CREATED:20161116T220920Z
LAST-MODIFIED:20161116T220920Z
UID:1486-1479650400-1479659400@conspiracyofbeards.com
SUMMARY:Tribute to Leonard Cohen
DESCRIPTION:Tribute to Leonard Cohen\nAn Afternoon of Music and Community \nFeaturing Conspiracy of Beards and Special Guests \nSunday\, November 20\nDoors open at 2pm. Show begins at 2:30 \nTickets: $10 (General Admission)\, Free (Under 18)\, No one turned away for lack of funds.    \nJoin the JCC East Bay for a community celebration of the life and music of Leonard Cohen. Featuring Conspiracy of Beards\, a 30-member a cappella male choir covering Cohen’s songs. \nAlso featuring:\nSylvie Simmons\, author of “I’m Your Man: The Life of Leonard Cohen”\nConspiracy of Venus\nJeremiah Lockwood & Jewlia Eisenberg \nPresented in Partnership with Reboot\, Congregation Beth-El\, David Brower Center\, and Urban Adamah.  \nSpace is limited! Get your tickets in advance to ensure your seat: jcceastbay.org/leonard-cohen \n
URL:https://conspiracyofbeards.com/event/tribute-to-leonard-cohen/
LOCATION:1414 Walnut St\, Berkeley\, CA\, 94709\, United States
GEO:37.8814356;-122.2686352
X-APPLE-STRUCTURED-LOCATION;VALUE=URI;X-ADDRESS=1414 Walnut St Berkeley CA 94709 United States;X-APPLE-RADIUS=500;X-TITLE=1414 Walnut St:geo:-122.2686352,37.8814356
ATTACH;FMTTYPE=image/jpeg:https://conspiracyofbeards.com/wp-content/uploads/2016/11/facebook_event_134470996590145-e1738779107911.jpg
END:VEVENT
END:VCALENDAR