BEGIN:VCALENDAR
VERSION:2.0
PRODID:-//Conspiracy of Beards - ECPv4.6.8//NONSGML v1.0//EN
CALSCALE:GREGORIAN
METHOD:PUBLISH
X-WR-CALNAME:Conspiracy of Beards
X-ORIGINAL-URL:https://conspiracyofbeards.com
X-WR-CALDESC:Events for Conspiracy of Beards
BEGIN:VEVENT
DTSTART;TZID=America/Los_Angeles:20161214T190000
DTEND;TZID=America/Los_Angeles:20161214T220000
DTSTAMP:20260421T105903
CREATED:20161212T063754Z
LAST-MODIFIED:20161212T063754Z
UID:1511-1481742000-1481752800@conspiracyofbeards.com
SUMMARY:Oakland United: A Benefit For Oakland Fire Relief at Fox Theater
DESCRIPTION:Another Planet Entertainment and Noise Pop\, along with Paradigm Agency’s Oakland office present OAKLAND UNITED\, a benefit show at the Fox Theater in Oakland on Wednesday\, December 14th for the Oakland Fire Relief Effort.  \nTickets go on sale Friday\, December 9th at noon via Another Planet’s official website\, http://www.APEConcerts.com. \n*100% of the proceeds from ticket sales will go directly to Gray Area Foundation For The Arts Oakland Fire Relief Fund.  \nAbout OAKLAND UNITED:\nOakland United is a A Night of Music and Stories featuring Boots Riley (The Coup)\, Christopher Willits\, Dan Deacon\, Gabe Meline (KQED) Geographer\, Hieroglyphics\, Jay Som\, Josette Melchor (Gray Area)\, Primus\, Rogue Wave\, Sam Lefebvre (East Bay Express)\, Sidecar Tommy (Beats Antique)\, Thao Nguyen\, tUnE-yArDs\, Tycho and many more! \nThe evening will be hosted by Josette Melchor of the Gray Area Foundation For The Arts\, which started a fund shortly after the tragedy and has collected over $500\,000 to date. The fund is collaborating closely with the Oakland Mayor’s Office and the Red Cross as well as getting guidance from local arts institutions. The immediate needs of fire victims will be the fund’s priority with the Red Cross as the first point of contact for allocation of the funds received from the Oakland Sports Teams funds. Gray Area will be second point of contact after that and are working on a system for intake. When the immediate needs of families are resolved\, Gray Area will be turning their attention to longer-term issues of safety and resilience across the larger creative community\, applying efforts to ensure this tragedy is not repeated. \n“It is unfortunate that it takes a tragedy to shed light on a broader situation around the need for safe venues for artists\, musicians\, and creatives in the Bay Area\,” said Josette Melchor\, Executive Director and Founder of Gray Area Foundation For The Arts. “We will continue to increase this goal as support comes in. We want this funding to stay in the community that was impacted.” \nTickets will range in costs from $35 (Reserved Balcony Seating) to $49.50 (General Admission Floor)\, with the ability to give an additional $25\, $50\, $100\, $250\, $500 or $1000 in donations. For those who are unable to attend the event\, patrons are encouraged to donate online at the link below: https://www.youcaring.com/firevictimsofoaklandfiredec232016-706684  \nThe event will feature music and stories from a wide variety of artists including: Boots Riley (The Coup)\, Christopher Willits\, Dan Deacon\, Gabe Meline (KQED)\, Geographer\, Hieroglyphics\, Jay Som\, Primus\, Rogue Wave\, Sam Lefebvre (Pitchfork/East Bay Express)\, Sidecar Tommy (Beats Antique)\, Thao Nguyen\, Tune-Yards\, Tycho and many more. \n
URL:https://conspiracyofbeards.com/event/oakland-united-a-benefit-for-oakland-fire-relief-at-fox-theater/
LOCATION:1807 Telegraph Ave\, Oakland\, CA\, 94612\, United States
GEO:37.8081061;-122.2703215
X-APPLE-STRUCTURED-LOCATION;VALUE=URI;X-ADDRESS=1807 Telegraph Ave Oakland CA 94612 United States;X-APPLE-RADIUS=500;X-TITLE=1807 Telegraph Ave:geo:-122.2703215,37.8081061
ATTACH;FMTTYPE=image/jpeg:https://conspiracyofbeards.com/wp-content/uploads/2016/12/facebook_event_120734411293907.jpg
END:VEVENT
END:VCALENDAR