BEGIN:VCALENDAR
VERSION:2.0
PRODID:-//Conspiracy of Beards - ECPv4.6.8//NONSGML v1.0//EN
CALSCALE:GREGORIAN
METHOD:PUBLISH
X-WR-CALNAME:Conspiracy of Beards
X-ORIGINAL-URL:https://conspiracyofbeards.com
X-WR-CALDESC:Events for Conspiracy of Beards
BEGIN:VEVENT
DTSTART;TZID=America/Los_Angeles:20150205T193000
DTEND;TZID=America/Los_Angeles:20150205T193000
DTSTAMP:20260419T181912
CREATED:20150203T074803Z
LAST-MODIFIED:20150203T074803Z
UID:1162-1423164600-1423164600@conspiracyofbeards.com
SUMMARY:IndieFest Opening Night Bash
DESCRIPTION:IndieFest 2015 kicks off proper on Thursday Feb 5 at Brava Theater with a screening of David Cross’ (Mr Show\, Arrested Development) feature film debut HITS\, followed by a live show by not one but TWO choirs!  \nThe show starts off with CONSPIRACY OF BEARDS\, an all male Leonard Cohen Tribute Choir followed by THE JERK CHURCH TABERNACLE CHOIR. \nInfo about HITS and tickets for the Film + Party can be found HERE: http://bit.ly/1wbyNHe \nInfo about the bands and tickets for the Party only can be found HERE: http://bit.ly/1Bmn3Ze \nHope to see you! \nAbout HITS: \nHits is the first feature film written and directed by comedy legend David Cross (Mr. Show with Bob and David\, Arrested Development). When a video of a humble municipal worker’s city council rant goes viral\, a small town in upstate New York becomes an incubator for widespread delusions of grandeur. Soon\, opportunistic news crews\, clueless urban bohemians\, and downwardly mobile hillbillies swarm this once idyllic hamlet\, competing head-to-head for a shot at the real American dream: monetized web content. This trenchant satire features a killer’s row of comic actors\, including Matt Walsh\, James Adomian\, Wyatt Cenac\, and Michael Cera. Mr Cross will be in attendance. \n
URL:https://conspiracyofbeards.com/event/indiefest-opening-night-bash/
LOCATION:2781 24th St\, San Francisco\, CA\, 94110\, United States
GEO:37.7527632;-122.4079889
X-APPLE-STRUCTURED-LOCATION;VALUE=URI;X-ADDRESS=2781 24th St San Francisco CA 94110 United States;X-APPLE-RADIUS=500;X-TITLE=2781 24th St:geo:-122.4079889,37.7527632
ATTACH;FMTTYPE=image/jpeg:https://conspiracyofbeards.com/wp-content/uploads/2015/02/facebook_event_141698742531964.jpg
END:VEVENT
END:VCALENDAR