BEGIN:VCALENDAR
VERSION:2.0
PRODID:-//Conspiracy of Beards - ECPv4.6.8//NONSGML v1.0//EN
CALSCALE:GREGORIAN
METHOD:PUBLISH
X-WR-CALNAME:Conspiracy of Beards
X-ORIGINAL-URL:https://conspiracyofbeards.com
X-WR-CALDESC:Events for Conspiracy of Beards
BEGIN:VEVENT
DTSTART;TZID=America/Los_Angeles:20100321T120000
DTEND;TZID=America/Los_Angeles:20100321T150000
DTSTAMP:20260420T045201
CREATED:20141217T085338Z
LAST-MODIFIED:20141217T085338Z
UID:1060-1269172800-1269183600@conspiracyofbeards.com
SUMMARY:Double Conspiracy at The Make-Out Room
DESCRIPTION:SEAWEEDSWAY SHOWCASE\nSUNDAY MARCH 21ST\nat the Make-Out Room \nbrother & sister choirs\ndouble conspiracy!! \nCONSPIRACY OF BEARDS\nhttp://conspiracyofbeards.com \nCONSPIRACY OF VENUS\nhttp://conspiracyofvenus.com \nand \nHERE’S RUSTY!\nhttp://myspace.com/ezralipp\nEzra Lipp & Ofir Uziel duo. Organ-Drum funk.jazz.middle eastern fusion chaos \nwith MC you-never-know-what-to-expect JEREMY DALMAS\nhttp://theabsurdists.com\nhttp://myspace.com/jeremydalmas \nStarts early. Doors at 7:30pm. Music/magic right at 8pm til 11pm. \n$8 \nCHECK http://bit.ly/march21seaweedswayConspiracy (facebook event page) FOR UPDATES \n
URL:https://conspiracyofbeards.com/event/double-conspiracy-at-the-make-out-room/
ATTACH;FMTTYPE=image/jpeg:https://conspiracyofbeards.com/wp-content/uploads/2014/12/facebook_event_217606351176.jpg
END:VEVENT
END:VCALENDAR