BEGIN:VCALENDAR
VERSION:2.0
PRODID:-//Conspiracy of Beards - ECPv4.6.8//NONSGML v1.0//EN
CALSCALE:GREGORIAN
METHOD:PUBLISH
X-WR-CALNAME:Conspiracy of Beards
X-ORIGINAL-URL:https://conspiracyofbeards.com
X-WR-CALDESC:Events for Conspiracy of Beards
BEGIN:VEVENT
DTSTART;TZID=America/Los_Angeles:20130409T190000
DTEND;TZID=America/Los_Angeles:20141217T005200
DTSTAMP:20260420T010425
CREATED:20141217T085258Z
LAST-MODIFIED:20141217T085258Z
UID:985-1365534000-1418777520@conspiracyofbeards.com
SUMMARY:Conspiracy of Beards w/Seduction Feroce Burlesque Cabaret @ The New Parish
DESCRIPTION:The Beards are thrilled to once again sing Leonard Cohen’s risqué poetic lyrics to compliment the arousing debauchery of Séduction Féroce at The New Parish in downtown Oakland\, CA. \nSéduction Féroce is a burlesque cabaret variety show that happens EVERY second Tuesday of the month! Showcasing an amazing line-up of local and visiting performers to tantalize your taste buds! Featuring the finest of burlesque\, boylesque\, drag kings\, drag queens\, bellydancing and sideshow acts this side of the bridge! Come out Oakland and support your local art scene! You know you wanna watch… \nHere’s a video of last years Séduction Féroce show: http://youtu.be/GX5H5epMNIY \n$7 at the door \nThanks to http://jgvillustrations.com/ for the artwork. \n
URL:https://conspiracyofbeards.com/event/conspiracy-of-beards-wseduction-feroce-burlesque-cabaret-the-new-parish/
LOCATION:1743 San Pablo Ave\, Oakland\, CA\, 94612\, United States
GEO:37.8074876;-122.2723792
X-APPLE-STRUCTURED-LOCATION;VALUE=URI;X-ADDRESS=1743 San Pablo Ave Oakland CA 94612 United States;X-APPLE-RADIUS=500;X-TITLE=1743 San Pablo Ave:geo:-122.2723792,37.8074876
ATTACH;FMTTYPE=image/jpeg:https://conspiracyofbeards.com/wp-content/uploads/2014/12/facebook_event_145052662102.jpg
END:VEVENT
END:VCALENDAR