BEGIN:VCALENDAR
VERSION:2.0
PRODID:-//Conspiracy of Beards - ECPv4.6.8//NONSGML v1.0//EN
CALSCALE:GREGORIAN
METHOD:PUBLISH
X-WR-CALNAME:Conspiracy of Beards
X-ORIGINAL-URL:https://conspiracyofbeards.com
X-WR-CALDESC:Events for Conspiracy of Beards
BEGIN:VEVENT
DTSTART;TZID=America/Los_Angeles:20150301T200000
DTEND;TZID=America/Los_Angeles:20150301T220000
DTSTAMP:20260420T103325
CREATED:20150130T131425Z
LAST-MODIFIED:20150130T131425Z
UID:1150-1425240000-1425247200@conspiracyofbeards.com
SUMMARY:Conspiracy of Beards & We Became Owls @ City Winery Napa - 3/1/15
DESCRIPTION:Conspiracy of Beards & We Became Owls @ City Winery Napa – 3/1/15 \nJoin Conspiracy of Beards and We Became Owls at the Napa Valley Opera House for an evening of powerful\, original americana/folk music\, followed by original\, a cappella arrangements of the poetic songs of Leonard Cohen performed by a choir of 30 men. \nWell dressed in suits\, ties\, and the occasional fedora\, the choir brings an energized live choral music experience out of churches and tabernacles and into the taverns\, art houses\, and theaters of the Bay Area and beyond. Transforming Cohen’s lyrics and simple melodies into complex 4- and 5-part harmonies\, and with a wide variety of small ensemble and full choir pieces\, Conspiracy of Beards achieves a sound that is both robust and tender\, exposing the emotion and comedy behind Cohen’s words. \nWe Became Owls is an Alternative Americana band from Oakland\, CA. Songwriter Andrew Blair and multi-instrumentalist Ross Warner began creating\, writing\, and composing music together in middle school. Influenced by the sound of Greenwich Village in the 60’s\, the Texas of Van Zandt and Earl\, and more contemporary acts like Wilco\, Damien Jurado\, Drive by Truckers\, and Jeff Buckley\, We Became Owls recalls a sound heard in the jukes\, front porches\, barns\, and hillsides of a long forgotten era. \n
URL:https://conspiracyofbeards.com/event/conspiracy-of-beards-we-became-owls-city-winery-napa-3115/
LOCATION:1030 Main St\, Napa\, CA\, 94559\, United States
GEO:38.2995986;-122.2855997
X-APPLE-STRUCTURED-LOCATION;VALUE=URI;X-ADDRESS=1030 Main St Napa CA 94559 United States;X-APPLE-RADIUS=500;X-TITLE=1030 Main St:geo:-122.2855997,38.2995986
ATTACH;FMTTYPE=image/jpeg:https://conspiracyofbeards.com/wp-content/uploads/2015/01/facebook_event_516532191793232.jpg
END:VEVENT
END:VCALENDAR