BEGIN:VCALENDAR
VERSION:2.0
PRODID:-//Conspiracy of Beards - ECPv4.6.8//NONSGML v1.0//EN
CALSCALE:GREGORIAN
METHOD:PUBLISH
X-WR-CALNAME:Conspiracy of Beards
X-ORIGINAL-URL:https://conspiracyofbeards.com
X-WR-CALDESC:Events for Conspiracy of Beards
BEGIN:VEVENT
DTSTART;TZID=America/Los_Angeles:20120531T203000
DTEND;TZID=America/Los_Angeles:20141217T005300
DTSTAMP:20260420T012332
CREATED:20141217T085312Z
LAST-MODIFIED:20141217T085312Z
UID:1009-1338496200-1418777580@conspiracyofbeards.com
SUMMARY:Conspiracy of Beards Thursday May 31 @ East Chinatown Lounge & Last Thursday on Alberta\, Portland OR
DESCRIPTION:San Francisco’s Conspiracy of Beards is a 30 (+/-) member male choir that performs gritty\, original\, a cappella arrangements of the songs of the great Leonard Cohen. \nThursday\, May 31st – 5pm at Last Thursday on Alberta (outside al Forno Ferruzza – 2738 NE Alberta St.) \nThursday\, May 31st – 9:30pm at East Chinatown Lounge\nFeaturing guest soloist Alison Alstrom\n9:30pm\, 322 NW Everett Street Portland\, OR – (503) 226-1569 \nTransforming Cohen’s simple melodies into complex 4- and 5-part harmonies\, Conspiracy of Beards achieves a sound that is both robust and tender\, with influences of jazz\, gospel\, indie rock\, barbershop\, classical and doo-wop through the unique arrangements choir members create. Using the genius of Cohen’s words\, The Beards inspire audiences to ponder romance\, politics\, sex\, longing and spirituality\, all amid laughter and cheers. \n
URL:https://conspiracyofbeards.com/event/conspiracy-of-beards-thursday-may-31-east-chinatown-lounge-last-thursday-on-alberta-portland-or/
ATTACH;FMTTYPE=image/jpeg:https://conspiracyofbeards.com/wp-content/uploads/2014/12/facebook_event_217606351176.jpg
END:VEVENT
END:VCALENDAR