BEGIN:VCALENDAR
VERSION:2.0
PRODID:-//Conspiracy of Beards - ECPv4.6.8//NONSGML v1.0//EN
CALSCALE:GREGORIAN
METHOD:PUBLISH
X-WR-CALNAME:Conspiracy of Beards
X-ORIGINAL-URL:https://conspiracyofbeards.com
X-WR-CALDESC:Events for Conspiracy of Beards
BEGIN:VEVENT
DTSTART;TZID=America/Los_Angeles:20120317T113000
DTEND;TZID=America/Los_Angeles:20120317T133000
DTSTAMP:20260420T031425
CREATED:20141217T085320Z
LAST-MODIFIED:20141217T085320Z
UID:1020-1331983800-1331991000@conspiracyofbeards.com
SUMMARY:Conspiracy of Beards @ The Make-Out Room
DESCRIPTION:Conspiracy of Beards is excited to open the night with the music of the great Leonard Cohen. Then stick around for Brandy of The Damned in a special St Patrick’s night performance of The Pogues 2nd album\, “Rum Sodomy and The Lash”.  \nWe take the stage at 7:45 – $8 at the door \n
URL:https://conspiracyofbeards.com/event/conspiracy-of-beards-the-make-out-room/
LOCATION:3225 22nd St\, San Francisco\, CA\, 94110\, United States
GEO:37.7552647;-122.4193588
X-APPLE-STRUCTURED-LOCATION;VALUE=URI;X-ADDRESS=3225 22nd St San Francisco CA 94110 United States;X-APPLE-RADIUS=500;X-TITLE=3225 22nd St:geo:-122.4193588,37.7552647
ATTACH;FMTTYPE=image/jpeg:https://conspiracyofbeards.com/wp-content/uploads/2014/12/facebook_event_32498706383.jpg
END:VEVENT
END:VCALENDAR