BEGIN:VCALENDAR
VERSION:2.0
PRODID:-//Conspiracy of Beards - ECPv4.6.8//NONSGML v1.0//EN
CALSCALE:GREGORIAN
METHOD:PUBLISH
X-WR-CALNAME:Conspiracy of Beards
X-ORIGINAL-URL:https://conspiracyofbeards.com
X-WR-CALDESC:Events for Conspiracy of Beards
BEGIN:VEVENT
DTSTART;TZID=America/Los_Angeles:20130316T183000
DTEND;TZID=America/Los_Angeles:20141217T005200
DTSTAMP:20260419T230647
CREATED:20141217T085259Z
LAST-MODIFIED:20141217T085259Z
UID:987-1363458600-1418777520@conspiracyofbeards.com
SUMMARY:Conspiracy of Beards & The Bogues @ Make-Out Room 3.16.13
DESCRIPTION:Conspiracy of Beards is excited to once again open the evening at the Make-Out Room with the poetic songs of Leonard Cohen performed a cappella. Then stick around for The Bogues with their annual St. Patty’s weekend celebration of the genius of Shane MacGowan & The Pogues. This is always a lively evening not to be missed. \nTickets at the door – $8 \nhttp://www.makeoutroom.com/\nhttps://www.facebook.com/Conspiracy.O.Beards\nhttps://www.facebook.com/TheBoguesBrandyoftheDamned \n
URL:https://conspiracyofbeards.com/event/conspiracy-of-beards-the-bogues-make-out-room-3-16-13/
LOCATION:3225 22nd St\, San Francisco\, CA\, 94110\, United States
GEO:37.7552647;-122.4193588
X-APPLE-STRUCTURED-LOCATION;VALUE=URI;X-ADDRESS=3225 22nd St San Francisco CA 94110 United States;X-APPLE-RADIUS=500;X-TITLE=3225 22nd St:geo:-122.4193588,37.7552647
ATTACH;FMTTYPE=image/jpeg:https://conspiracyofbeards.com/wp-content/uploads/2014/12/facebook_event_32498706383.jpg
END:VEVENT
END:VCALENDAR