BEGIN:VCALENDAR
VERSION:2.0
PRODID:-//Conspiracy of Beards - ECPv4.6.8//NONSGML v1.0//EN
CALSCALE:GREGORIAN
METHOD:PUBLISH
X-WR-CALNAME:Conspiracy of Beards
X-ORIGINAL-URL:https://conspiracyofbeards.com
X-WR-CALDESC:Events for Conspiracy of Beards
BEGIN:VEVENT
DTSTART;TZID=America/Los_Angeles:20120120T110000
DTEND;TZID=America/Los_Angeles:20120120T140000
DTSTAMP:20260420T030110
CREATED:20141217T085321Z
LAST-MODIFIED:20141217T085321Z
UID:1022-1327057200-1327068000@conspiracyofbeards.com
SUMMARY:Conspiracy of Beards @ The Benefit Concert for Alamo Square Fire Victims
DESCRIPTION:On December 22nd\, 2011 a fire near San Francisco’s Alamo Square injured three people and caused an estimated $8 million in structural damage to four buildings\, including a school and 27 residential units. This event is a benefit concert to raise money to help the 60+ people displaced by this tragic fire. \nFriday\, Jan 20 7:00 – 10:00 pm @ St. Cyprian’s Episcopal Church – http://www.liveatcyprians.blogspot.com/ \nLend a hand and as many bucks as you can to our neighbors who lost their homes in the recent fire on Golden Gate Avenue and Pierce Streets in Alamo Square neighborhood. \n4-5 local bands — TBA\nRefreshments –wine\, beer\, sodas\, baked treats\nSecure bike parking\, easy to get to on Muni\, car parking nearby \n
URL:https://conspiracyofbeards.com/event/conspiracy-of-beards-the-benefit-concert-for-alamo-square-fire-victims/
LOCATION:2097 Turk Street @ Lyon\, San Francisco
GEO:37.7790148;-122.4436833
X-APPLE-STRUCTURED-LOCATION;VALUE=URI;X-ADDRESS=2097 Turk Street @ Lyon San Francisco;X-APPLE-RADIUS=500;X-TITLE=2097 Turk Street @ Lyon:geo:-122.4436833,37.7790148
ATTACH;FMTTYPE=image/png:https://conspiracyofbeards.com/wp-content/uploads/2014/12/facebook_event_217606351176.png
END:VEVENT
END:VCALENDAR