BEGIN:VCALENDAR
VERSION:2.0
PRODID:-//Conspiracy of Beards - ECPv4.6.8//NONSGML v1.0//EN
CALSCALE:GREGORIAN
METHOD:PUBLISH
X-WR-CALNAME:Conspiracy of Beards
X-ORIGINAL-URL:https://conspiracyofbeards.com
X-WR-CALDESC:Events for Conspiracy of Beards
BEGIN:VEVENT
DTSTART;TZID=America/Los_Angeles:20091201T123000
DTEND;TZID=America/Los_Angeles:20091201T160000
DTSTAMP:20260420T065402
CREATED:20141217T085344Z
LAST-MODIFIED:20141217T085344Z
UID:1075-1259670600-1259683200@conspiracyofbeards.com
SUMMARY:Conspiracy of Beards~ Stitchcraft at le Cafe Du Nord 
DESCRIPTION:With the beautiful StitchCraft and the adventurous King City. mmm mmm good…\n$10 \nhttp://www.myspace.com/kingcity\nhttp://www.myspace.com/stitchcraft\nhttp://www.myspace.com/conspiracyofbeards \n
URL:https://conspiracyofbeards.com/event/conspiracy-of-beards-stitchcraft-at-le-cafe-du-nord/
ATTACH;FMTTYPE=image/jpeg:https://conspiracyofbeards.com/wp-content/uploads/2014/12/facebook_event_217606351176.jpg
END:VEVENT
END:VCALENDAR