BEGIN:VCALENDAR
VERSION:2.0
PRODID:-//Conspiracy of Beards - ECPv4.6.8//NONSGML v1.0//EN
CALSCALE:GREGORIAN
METHOD:PUBLISH
X-WR-CALNAME:Conspiracy of Beards
X-ORIGINAL-URL:https://conspiracyofbeards.com
X-WR-CALDESC:Events for Conspiracy of Beards
BEGIN:VEVENT
DTSTART;TZID=America/Los_Angeles:20170205T200000
DTEND;TZID=America/Los_Angeles:20170205T233000
DTSTAMP:20260419T143050
CREATED:20170201T231204Z
LAST-MODIFIED:20170201T231354Z
UID:1539-1486324800-1486337400@conspiracyofbeards.com
SUMMARY:Conspiracy of Beards / Society of Rockets / the Liners at Rickshaw Stop
DESCRIPTION:Conspiracy of Beards\nSociety of Rockets (album release party)\nThe Liners\n8 pm\n$12\nTickets: http://ticketf.ly/2gg7ds2 \nCONSPIRACY OF BEARDS\nSan Francisco’s Conspiracy of Beards is a 30-member male choir that performs dynamic\, original\, a cappella arrangements of the poetic songs of Leonard Cohen.\nhttps://www.facebook.com/Conspiracy.O.Beards \nSOCIETY OF ROCKETS\nCelebrating the release of their newest album\, Family Ways\nhttps://societyofrockets.bandcamp.com/album/family-ways\nThe Society of Rockets are six dedicated paleofuturologists that have been navigating the outer reaches of psychedelia and pop for the last 15 years\, first as the Shimmer Kids Underpop Association. In 2004\, “the Kids” changed their band name to Society of Rockets after their sonic-scape outgrew the home studio and matured into a steady and full-on proper studio setup. Their latest outing\, Family Ways\, finds itself sonically roaming the streets of Bakersfield\, and further exploring Californian country and folk influences.\nhttps://www.facebook.com/SocietyOfRockets/ \nTHE LINERS\nThe Liners hail from San Francisco\, a city created for dirty rhythm and blues infused rock and roll. Mixing sultry vocals and a hard hitting musical backdrop\, they stray from the derivative; yet straddle the line between the best of what’s classic and what’s to come.\nhttps://www.facebook.com/thelinersband/ \n
URL:https://conspiracyofbeards.com/event/conspiracy-of-beards-society-of-rockets-the-liners-at-rickshaw-stop/
LOCATION:155 Fell St\, San Francisco\, CA\, 94102\, United States
GEO:37.776116;-122.4204828
X-APPLE-STRUCTURED-LOCATION;VALUE=URI;X-ADDRESS=155 Fell St San Francisco CA 94102 United States;X-APPLE-RADIUS=500;X-TITLE=155 Fell St:geo:-122.4204828,37.776116
ATTACH;FMTTYPE=image/jpeg:https://conspiracyofbeards.com/wp-content/uploads/2017/02/facebook_event_193434891255.jpg
END:VEVENT
END:VCALENDAR