BEGIN:VCALENDAR
VERSION:2.0
PRODID:-//Conspiracy of Beards - ECPv4.6.8//NONSGML v1.0//EN
CALSCALE:GREGORIAN
METHOD:PUBLISH
X-WR-CALNAME:Conspiracy of Beards
X-ORIGINAL-URL:https://conspiracyofbeards.com
X-WR-CALDESC:Events for Conspiracy of Beards
BEGIN:VEVENT
DTSTART;TZID=America/Los_Angeles:20120602T163000
DTEND;TZID=America/Los_Angeles:20141217T005300
DTSTAMP:20260420T031108
CREATED:20141217T085310Z
LAST-MODIFIED:20141217T085310Z
UID:1004-1338654600-1418777580@conspiracyofbeards.com
SUMMARY:Conspiracy of Beards Saturday June 2 @ The Comet Tavern\, Seattle WA
DESCRIPTION:Saturday\, June 2nd at Comet Tavern\, 922 East Pike Street  Seattle\, WA – (206) 322-9272 \nSan Francisco’s Conspiracy of Beards is a 30 (+/-) member male choir that performs gritty\, original\, a cappella arrangements of the songs of the great Leonard Cohen. \nTransforming Cohen’s simple melodies into complex 4- and 5-part harmonies\, Conspiracy of Beards achieves a sound that is both robust and tender\, with influences of jazz\, gospel\, indie rock\, barbershop\, classical and doo-wop through the unique arrangements choir members create. Using the genius of Cohen’s words\, The Beards inspire audiences to ponder romance\, politics\, sex\, longing and spirituality\, all amid laughter and cheers. \n*Thanks to Matt Nyce for letting us turn his drawing of the Comet Tavern into a poster! http://www.mattnyce.com/ \n
URL:https://conspiracyofbeards.com/event/conspiracy-of-beards-saturday-june-2-the-comet-tavern-seattle-wa/
ATTACH;FMTTYPE=image/jpeg:https://conspiracyofbeards.com/wp-content/uploads/2014/12/facebook_event_217606351176.jpg
END:VEVENT
END:VCALENDAR