BEGIN:VCALENDAR
VERSION:2.0
PRODID:-//Conspiracy of Beards - ECPv4.6.8//NONSGML v1.0//EN
CALSCALE:GREGORIAN
METHOD:PUBLISH
X-WR-CALNAME:Conspiracy of Beards
X-ORIGINAL-URL:https://conspiracyofbeards.com
X-WR-CALDESC:Events for Conspiracy of Beards
BEGIN:VEVENT
DTSTART;VALUE=DATE:20120530
DTEND;VALUE=DATE:20120531
DTSTAMP:20260420T011750
CREATED:20141217T085314Z
LAST-MODIFIED:20141217T085314Z
UID:1011-1338336000-1338422399@conspiracyofbeards.com
SUMMARY:Conspiracy of Beards | Pacific Northwest Tour
DESCRIPTION:San Francisco’s Conspiracy of Beards is a 30 member male choir that performs gritty\, original\, a cappella arrangements of the poetic songs of Leonard Cohen. \nMay 31 – June 3\nPortland – Vancouver – Seattle \nThursday\, May 31 – 5pm – Last Thursday on Alberta Street (outside of al Forno Ferruzza pizzeria) – Portland\, OR \nThursday\, May 31 – 9:30pm – East Chinatown Lounge – Portland\, OR \nFriday\, June 1 – 8pm – Heritage Hall – Vancouver\, Canada \nSaturday\, June 2 – 5:30pm – Comet Tavern – Seattle\, WA \nVenue Links: \nPORTLAND\nLast Thursday on Alberta – http://www.lastthursdayonalberta.com/\nal Forno Ferruzza – http://alfornoferruzza.com/\nEast Chinatown Lounge – http://www.eastchinatownlounge.com/ \nVANCOUVER\nHeritage Hall – http://www.heritagehall.bc.ca/ \nSEATTLE\nComet Tavern – http://www.comettavern.com/ \n
URL:https://conspiracyofbeards.com/event/conspiracy-of-beards-pacific-northwest-tour/
LOCATION:Camas\, WA\, United States
GEO:45.5870631;-122.3995363
ATTACH;FMTTYPE=image/jpeg:https://conspiracyofbeards.com/wp-content/uploads/2014/12/facebook_event_151500648218821.jpg
END:VEVENT
END:VCALENDAR