BEGIN:VCALENDAR
VERSION:2.0
PRODID:-//Conspiracy of Beards - ECPv4.6.8//NONSGML v1.0//EN
CALSCALE:GREGORIAN
METHOD:PUBLISH
X-WR-CALNAME:Conspiracy of Beards
X-ORIGINAL-URL:https://conspiracyofbeards.com
X-WR-CALDESC:Events for Conspiracy of Beards
BEGIN:VEVENT
DTSTART;TZID=America/Los_Angeles:20120427T110000
DTEND;TZID=America/Los_Angeles:20120429T050000
DTSTAMP:20260420T030611
CREATED:20141217T085319Z
LAST-MODIFIED:20141217T085319Z
UID:1018-1335524400-1335675600@conspiracyofbeards.com
SUMMARY:Conspiracy of Beards | One Weekend In New York
DESCRIPTION:Once again Conspiracy of Beards\, a 30+ member a cappella men’s choir that sings only the songs of Leonard Cohen\, will take our voices to the city that never sleeps. April 27th-29th we will be making our way around Manhattan and Brooklyn\, sharing our song with the east coast lovers of Cohen’s amazing music. You can catch us at the following venues or you might just happen upon us signing on the street. Please tell your friends*. \n4.27.12 – Early Show – 7pm @ Jack Hanley Gallery in Tribeca\, NYC\nLive Warm-Up w/Audience Participation & Live Radio Broadcast on WFMU with Billy Jam – FREE \n4.27.12 – Late Show – 11:45 @ The Manhattan Inn in Williamsburg\, Brooklyn\nFREE (We’ll pass a hat for donations) \n4.28.12 – w/Golem! – 8:30pm @ Glasslands Gallery in Williamsburg\, Brooklyn\nTickets – http://ticketf.ly/wvDMam \n4.29.12 – w/David Tobocman – 1pm @ Highline Ballroom\, NYC\nTickets – http://tktwb.tw/z7D5iu \nVENUES:\nJack Hanley Gallery – http://www.jackhanley.com/\nManhattan Inn – http://www.themanhattaninn.com/\nGlasslands Gallery – http://glasslands.blogspot.com/\nHighline Ballroom – http://highlineballroom.com/\nWFMU – http://wfmu.org/ \nMUSICIANS:\nConspiracy of Beards – http://conspiracyofbeards.com\nGolem! – http://www.golemrocks.com/\nDavid Tobocman – http://www.veryhelpfulsongs.com \n *It’s a conspiracy. \n
URL:https://conspiracyofbeards.com/event/conspiracy-of-beards-one-weekend-in-new-york/
LOCATION:Brooklyn\, NY\, 11201\, United States
GEO:40.6986772;-73.9859414
ATTACH;FMTTYPE=image/jpeg:https://conspiracyofbeards.com/wp-content/uploads/2014/12/facebook_event_182909171768379.jpg
END:VEVENT
END:VCALENDAR