BEGIN:VCALENDAR
VERSION:2.0
PRODID:-//Conspiracy of Beards - ECPv4.6.8//NONSGML v1.0//EN
CALSCALE:GREGORIAN
METHOD:PUBLISH
X-WR-CALNAME:Conspiracy of Beards
X-ORIGINAL-URL:https://conspiracyofbeards.com
X-WR-CALDESC:Events for Conspiracy of Beards
BEGIN:VEVENT
DTSTART;TZID=America/Los_Angeles:20100501T140000
DTEND;TZID=America/Los_Angeles:20100501T160000
DTSTAMP:20260420T063028
CREATED:20141217T085336Z
LAST-MODIFIED:20141217T085336Z
UID:1057-1272722400-1272729600@conspiracyofbeards.com
SUMMARY:Conspiracy of Beards ~ Leonard Cohen choir
DESCRIPTION:Conspiracy of Beards re-takes Manhattan on May Day 2010!  In our 3rd annual springtime visit to NYC\, we will serenade you at the Bowery Poetry Club on May 1st at 10pm. \nSan Francisco’s CONSPIRACY OF BEARDS is a 30-member male choir that performs gritty\, original arrangements of the songs of LEONARD COHEN. Formed in 2003 through the inspiration of the late performance artist Peter Kadyk\, this a capella group has become a fixture in SF’s folk scene.  The Beards are well known for their live performances at Bay Area venues such as the Cafe du Nord\, the Great American Music Hall\, and The San Francisco Museum of Modern Art and SF City Hall\, as well as in bars\, bookstores\, hospices and various community centers. The choir has also been featured on National Public Radio’s “West Coast Live\,” on KFOG\, KPFA\, WFMU and on PBS television station KQED-TV. \nTransforming Cohen’s simple melodies into complex 4- and 5-part harmonies\, the group achieves a sound that is both robust and tender\, with influences of indie rock\, jazz\, gospel\, barbershop\, classical and doo-wop in the unique arrangements the choir creates. Using the genius of Cohen’s words\, the Beards inspire audiences to ponder romance\, politics\, sex\, longing and spirituality\, all amid laughter and cheers. \nhttp://www.conspiracyofbeards.com \nBowery Poetry Club:\n308 Bowery\, NY 10012 (between Houston and Bleecker)\nF train to 2nd Ave\, 6 to Bleecker \n
URL:https://conspiracyofbeards.com/event/conspiracy-of-beards-leonard-cohen-choir-2/
LOCATION:308 Bowery\, NY 10012 (between Houston and Bleecker)
GEO:40.7249359;-73.9927509
X-APPLE-STRUCTURED-LOCATION;VALUE=URI;X-ADDRESS=308 Bowery NY 10012 (between Houston and Bleecker);X-APPLE-RADIUS=500;X-TITLE=308 Bowery\, NY 10012 (between Houston and Bleecker):geo:-73.9927509,40.7249359
ATTACH;FMTTYPE=image/jpeg:https://conspiracyofbeards.com/wp-content/uploads/2014/12/facebook_event_217606351176.jpg
END:VEVENT
END:VCALENDAR