BEGIN:VCALENDAR
VERSION:2.0
PRODID:-//Conspiracy of Beards - ECPv4.6.8//NONSGML v1.0//EN
CALSCALE:GREGORIAN
METHOD:PUBLISH
X-WR-CALNAME:Conspiracy of Beards
X-ORIGINAL-URL:https://conspiracyofbeards.com
X-WR-CALDESC:Events for Conspiracy of Beards
BEGIN:VEVENT
DTSTART;TZID=America/Los_Angeles:20120601T180000
DTEND;TZID=America/Los_Angeles:20141217T005300
DTSTAMP:20260420T013622
CREATED:20141217T085311Z
LAST-MODIFIED:20141217T085311Z
UID:1007-1338573600-1418777580@conspiracyofbeards.com
SUMMARY:Conspiracy of Beards Friday June 1 @ Heritage Hall\, Vancouver Canada
DESCRIPTION:San Francisco’s Conspiracy of Beards is a 30 (+/-) member male choir that performs gritty\, original\, a cappella arrangements of the songs of the great Leonard Cohen. \nFriday\, June 1st at Heritage Hall\, 3102 Main Street & 15th\, Vancouver\, Canada – (604) 879-4816 \nDoors at 7pm – Show at 8pm \nOur first international performance! This is a benefit for Kickstart Disability Arts and Culture\, an amazing charity. \nTickets – http://teaandoranges.eventbrite.com/ \nTransforming Cohen’s simple melodies into complex 4- and 5-part harmonies\, Conspiracy of Beards achieves a sound that is both robust and tender\, with influences of jazz\, gospel\, indie rock\, barbershop\, classical and doo-wop through the unique arrangements choir members create. Using the genius of Cohen’s words\, The Beards inspire audiences to ponder romance\, politics\, sex\, longing and spirituality\, all amid laughter and cheers. \n
URL:https://conspiracyofbeards.com/event/conspiracy-of-beards-friday-june-1-heritage-hall-vancouver-canada/
LOCATION:3102 Main Street\, Vancouver\, BC\, V5T 3G7\, Canada
GEO:49.257264;-123.101013
X-APPLE-STRUCTURED-LOCATION;VALUE=URI;X-ADDRESS=3102 Main Street Vancouver BC V5T 3G7 Canada;X-APPLE-RADIUS=500;X-TITLE=3102 Main Street:geo:-123.101013,49.257264
ATTACH;FMTTYPE=image/jpeg:https://conspiracyofbeards.com/wp-content/uploads/2014/12/facebook_event_162731730403996.jpg
END:VEVENT
END:VCALENDAR