BEGIN:VCALENDAR
VERSION:2.0
PRODID:-//Conspiracy of Beards - ECPv4.6.8//NONSGML v1.0//EN
CALSCALE:GREGORIAN
METHOD:PUBLISH
X-WR-CALNAME:Conspiracy of Beards
X-ORIGINAL-URL:https://conspiracyofbeards.com
X-WR-CALDESC:Events for Conspiracy of Beards
BEGIN:VEVENT
DTSTART;TZID=America/Los_Angeles:20100612T120000
DTEND;TZID=America/Los_Angeles:20100613T050000
DTSTAMP:20260420T043558
CREATED:20141217T085334Z
LAST-MODIFIED:20141217T085334Z
UID:1051-1276344000-1276405200@conspiracyofbeards.com
SUMMARY:Conspiracy of Beards - End of Year Party!
DESCRIPTION:Join The Beards for our annual end of the season party.  Great music\, pot luck delicacies\, boooze\, bonfire\, and more! \nDoors open at 8\, Music starts at 8:30.\nFeaturing:\nCyclub\nRuby Howl\nCoB\nGilded Rooks\nTin Sandwich Harmonica Ensemble (around the fire pit) \nCyclone Warehouse:\n1842 Illinois St. at Marin\, one block east of 3rd St.\n$5 donation \nWe are grateful to everyone for another wonderful season\, so let’s celebrate! \n
URL:https://conspiracyofbeards.com/event/conspiracy-of-beards-end-of-year-party/
LOCATION:1842 Illinois St.\, San Francisco
GEO:37.7486267;-122.3866159
X-APPLE-STRUCTURED-LOCATION;VALUE=URI;X-ADDRESS=1842 Illinois St. San Francisco;X-APPLE-RADIUS=500;X-TITLE=1842 Illinois St.:geo:-122.3866159,37.7486267
ATTACH;FMTTYPE=image/jpeg:https://conspiracyofbeards.com/wp-content/uploads/2014/12/facebook_event_1012419822118604.jpg
END:VEVENT
END:VCALENDAR