BEGIN:VCALENDAR
VERSION:2.0
PRODID:-//Conspiracy of Beards - ECPv4.6.8//NONSGML v1.0//EN
CALSCALE:GREGORIAN
METHOD:PUBLISH
X-WR-CALNAME:Conspiracy of Beards
X-ORIGINAL-URL:https://conspiracyofbeards.com
X-WR-CALDESC:Events for Conspiracy of Beards
BEGIN:VEVENT
DTSTART;TZID=America/Los_Angeles:20111103T120000
DTEND;TZID=America/Los_Angeles:20111103T153000
DTSTAMP:20260420T030853
CREATED:20141217T085324Z
LAST-MODIFIED:20141217T085324Z
UID:1027-1320321600-1320334200@conspiracyofbeards.com
SUMMARY:Conspiracy of Beards @ Cafe Du Nord - 8pm
DESCRIPTION:Conspiracy of Beards is honored to open the show for Sharon Robinson! \nA gorgeous\, soulful alto that envelopes hooks and harmonies; a musically gifted mind that collaborates with Leonard Cohen; a pop sensibility that earns a GRAMMY Award with Patti LaBelle (“New Attitude”)–that’s Sharon Robinson: singer\, songwriter\, producer and artist. \n
URL:https://conspiracyofbeards.com/event/conspiracy-of-beards-cafe-du-nord-8pm/
LOCATION:2174 Market St\, San Francisco\, CA\, 94114-1319\, United States
GEO:37.7667464;-122.4306068
X-APPLE-STRUCTURED-LOCATION;VALUE=URI;X-ADDRESS=2174 Market St San Francisco CA 94114-1319 United States;X-APPLE-RADIUS=500;X-TITLE=2174 Market St:geo:-122.4306068,37.7667464
ATTACH;FMTTYPE=image/jpeg:https://conspiracyofbeards.com/wp-content/uploads/2014/12/facebook_event_107000536007478.jpg
END:VEVENT
END:VCALENDAR