BEGIN:VCALENDAR
VERSION:2.0
PRODID:-//Conspiracy of Beards - ECPv4.6.8//NONSGML v1.0//EN
CALSCALE:GREGORIAN
METHOD:PUBLISH
X-WR-CALNAME:Conspiracy of Beards
X-ORIGINAL-URL:https://conspiracyofbeards.com
X-WR-CALDESC:Events for Conspiracy of Beards
BEGIN:VEVENT
DTSTART;TZID=America/Los_Angeles:20101107T130000
DTEND;TZID=America/Los_Angeles:20101107T160000
DTSTAMP:20260420T044539
CREATED:20141217T085333Z
LAST-MODIFIED:20141217T085333Z
UID:1048-1289134800-1289145600@conspiracyofbeards.com
SUMMARY:Conspiracy of Beards at The Rite Spot
DESCRIPTION:(Don’t) Fear the Beard(s)! \nOur debut performance of the season at one of our favorite locales! With Beardy opening acts Creeping Mustard\, Tin Sandwich\, Neo\, and Slow Moving Lions of the Vegetable World. Free! \nACTUALLY BEGINS AT 8:00! \n
URL:https://conspiracyofbeards.com/event/conspiracy-of-beards-at-the-rite-spot/
ATTACH;FMTTYPE=image/jpeg:https://conspiracyofbeards.com/wp-content/uploads/2014/12/facebook_event_217606351176.jpg
END:VEVENT
END:VCALENDAR