BEGIN:VCALENDAR
VERSION:2.0
PRODID:-//Conspiracy of Beards - ECPv4.6.8//NONSGML v1.0//EN
CALSCALE:GREGORIAN
METHOD:PUBLISH
X-WR-CALNAME:Conspiracy of Beards
X-ORIGINAL-URL:https://conspiracyofbeards.com
X-WR-CALDESC:Events for Conspiracy of Beards
BEGIN:VEVENT
DTSTART;TZID=America/Los_Angeles:20130126T210000
DTEND;TZID=America/Los_Angeles:20141217T005300
DTSTAMP:20260419T233254
CREATED:20141217T085304Z
LAST-MODIFIED:20141217T085304Z
UID:994-1359234000-1418777580@conspiracyofbeards.com
SUMMARY:Conspiracy of Beards 1/26 @ The Riptide - Completely Free Show
DESCRIPTION:Saturday\, January 26th @ The Riptide – 9:00pm – FREE! \nIt’s our 10th Anniversary season\, and we are bringing it with force and focus.  We are jazzed to stand together in front of The Riptide’s warm brick hearth\, in the Sunset District of San Francisco\, and fill the room with song.  Join us for an evening of Leonard Cohen’s poetic music performed a cappella with spirit and emotion\, and bring someone you care about to share in the revelry. \n
URL:https://conspiracyofbeards.com/event/conspiracy-of-beards-126-the-riptide-completely-free-show/
LOCATION:3639 Taraval St\, San Francisco\, CA\, 94116\, United States
GEO:37.7415474;-122.5053459
X-APPLE-STRUCTURED-LOCATION;VALUE=URI;X-ADDRESS=3639 Taraval St San Francisco CA 94116 United States;X-APPLE-RADIUS=500;X-TITLE=3639 Taraval St:geo:-122.5053459,37.7415474
ATTACH;FMTTYPE=image/jpeg:https://conspiracyofbeards.com/wp-content/uploads/2014/12/facebook_event_123802521678.jpg
END:VEVENT
END:VCALENDAR