BEGIN:VCALENDAR
VERSION:2.0
PRODID:-//Conspiracy of Beards - ECPv4.6.8//NONSGML v1.0//EN
CALSCALE:GREGORIAN
METHOD:PUBLISH
X-WR-CALNAME:Conspiracy of Beards
X-ORIGINAL-URL:https://conspiracyofbeards.com
X-WR-CALDESC:Events for Conspiracy of Beards
BEGIN:VEVENT
DTSTART;TZID=America/Los_Angeles:20121213T190000
DTEND;TZID=America/Los_Angeles:20121213T200000
DTSTAMP:20260420T012247
CREATED:20141217T085306Z
LAST-MODIFIED:20141217T085306Z
UID:996-1355425200-1355428800@conspiracyofbeards.com
SUMMARY:Conspiracy of Beards 12/13 @ The Contemporary Jewish Museum
DESCRIPTION:Thursday\, December 13\, 2012 | 7-8pm \nWe are very honored to once again sing the songs of Leonard Cohen in the Contemporary Jewish Museum’s Goldman Hall this holiday season. Tickets are only $5 and this show will sell out. Members of the CJM get in free. \nReserve seats/buy tickets here:\nhttps://tickets.thecjm.org/public/auto_choose_ga.asp?area=7 \nVisit the museum before the show to see all of the wonderful exhibits they have to offer! http://www.thecjm.org/ \nThe Contemporary Jewish Museum\n736 Mission Street\nSan Francisco\, CA 94103\n415.655.7800\ninfo@thecjm.org \n
URL:https://conspiracyofbeards.com/event/conspiracy-of-beards-1213-the-contemporary-jewish-museum/
LOCATION:736 Mission St\, San Francisco\, CA\, 94103\, United States
GEO:37.7859102;-122.403361
X-APPLE-STRUCTURED-LOCATION;VALUE=URI;X-ADDRESS=736 Mission St San Francisco CA 94103 United States;X-APPLE-RADIUS=500;X-TITLE=736 Mission St:geo:-122.403361,37.7859102
ATTACH;FMTTYPE=image/jpeg:https://conspiracyofbeards.com/wp-content/uploads/2014/12/facebook_event_53987808068.jpg
END:VEVENT
END:VCALENDAR