BEGIN:VCALENDAR
VERSION:2.0
PRODID:-//Conspiracy of Beards - ECPv4.6.8//NONSGML v1.0//EN
CALSCALE:GREGORIAN
METHOD:PUBLISH
X-WR-CALNAME:Conspiracy of Beards
X-ORIGINAL-URL:https://conspiracyofbeards.com
X-WR-CALDESC:Events for Conspiracy of Beards
BEGIN:VEVENT
DTSTART;TZID=America/Los_Angeles:20110616T103000
DTEND;TZID=America/Los_Angeles:20110616T130000
DTSTAMP:20260420T031053
CREATED:20141217T085327Z
LAST-MODIFIED:20141217T085327Z
UID:1034-1308220200-1308229200@conspiracyofbeards.com
SUMMARY:Amy Ahlstrom: Urban Quilter with Conspiracy of Beards
DESCRIPTION:Sampled layers of meaning: Amy Ahlstrom displays her vibrant ultramodern fiber art\, influenced by pop\, lowbrow and graffiti art\, reflecting the urban experience through the exquisite medium of quilts.  \nConspiracy of Beards performs our last show of the season at 8:00pm. Free! \nhttp://www.yourmusegallery.com/exhibits.html\nhttp://www.amyahlstrom.com \n
URL:https://conspiracyofbeards.com/event/amy-ahlstrom-urban-quilter-with-conspiracy-of-beards/
LOCATION:614 Alabama Street at 18th\, San Francisco
GEO:37.7612828;-122.4122613
X-APPLE-STRUCTURED-LOCATION;VALUE=URI;X-ADDRESS=614 Alabama Street at 18th San Francisco;X-APPLE-RADIUS=500;X-TITLE=614 Alabama Street at 18th:geo:-122.4122613,37.7612828
ATTACH;FMTTYPE=image/jpeg:https://conspiracyofbeards.com/wp-content/uploads/2014/12/facebook_event_217606351176.jpg
END:VEVENT
END:VCALENDAR